BEGIN:VCALENDAR
VERSION:2.0
PRODID:-//Halfacre Pond - ECPv6.15.20//NONSGML v1.0//EN
CALSCALE:GREGORIAN
METHOD:PUBLISH
X-WR-CALNAME:Halfacre Pond
X-ORIGINAL-URL:https://halfacrepond.com
X-WR-CALDESC:Events for Halfacre Pond
REFRESH-INTERVAL;VALUE=DURATION:PT1H
X-Robots-Tag:noindex
X-PUBLISHED-TTL:PT1H
BEGIN:VTIMEZONE
TZID:America/New_York
BEGIN:DAYLIGHT
TZOFFSETFROM:-0500
TZOFFSETTO:-0400
TZNAME:EDT
DTSTART:20240310T070000
END:DAYLIGHT
BEGIN:STANDARD
TZOFFSETFROM:-0400
TZOFFSETTO:-0500
TZNAME:EST
DTSTART:20241103T060000
END:STANDARD
BEGIN:DAYLIGHT
TZOFFSETFROM:-0500
TZOFFSETTO:-0400
TZNAME:EDT
DTSTART:20250309T070000
END:DAYLIGHT
BEGIN:STANDARD
TZOFFSETFROM:-0400
TZOFFSETTO:-0500
TZNAME:EST
DTSTART:20251102T060000
END:STANDARD
BEGIN:DAYLIGHT
TZOFFSETFROM:-0500
TZOFFSETTO:-0400
TZNAME:EDT
DTSTART:20260308T070000
END:DAYLIGHT
BEGIN:STANDARD
TZOFFSETFROM:-0400
TZOFFSETTO:-0500
TZNAME:EST
DTSTART:20261101T060000
END:STANDARD
END:VTIMEZONE
BEGIN:VEVENT
DTSTART;VALUE=DATE:20251010
DTEND;VALUE=DATE:20251013
DTSTAMP:20260424T030701
CREATED:20251230T225313Z
LAST-MODIFIED:20251231T024340Z
UID:1117-1760054400-1760313599@halfacrepond.com
SUMMARY:GalaxyCon St. Louis\, with CROWDED SHELF
DESCRIPTION:Crowded Shelf and our authors had an amazing GalaxyCon\, as usual. See everyone again soon\, with more books for you to hoard.
URL:https://halfacrepond.com/event/galaxycon-st-louis-with-crowded-shelf/
LOCATION:KY
CATEGORIES:Convention,Vending
ATTACH;FMTTYPE=image/jpeg:https://halfacrepond.com/wp-content/uploads/2025/12/Screenshot_20251230_174920_Chrome.jpg
END:VEVENT
END:VCALENDAR