BEGIN:VCALENDAR
VERSION:2.0
PRODID:-//Halfacre Pond - ECPv6.15.20//NONSGML v1.0//EN
CALSCALE:GREGORIAN
METHOD:PUBLISH
X-WR-CALNAME:Halfacre Pond
X-ORIGINAL-URL:https://halfacrepond.com
X-WR-CALDESC:Events for Halfacre Pond
REFRESH-INTERVAL;VALUE=DURATION:PT1H
X-Robots-Tag:noindex
X-PUBLISHED-TTL:PT1H
BEGIN:VTIMEZONE
TZID:America/New_York
BEGIN:DAYLIGHT
TZOFFSETFROM:-0500
TZOFFSETTO:-0400
TZNAME:EDT
DTSTART:20230312T070000
END:DAYLIGHT
BEGIN:STANDARD
TZOFFSETFROM:-0400
TZOFFSETTO:-0500
TZNAME:EST
DTSTART:20231105T060000
END:STANDARD
BEGIN:DAYLIGHT
TZOFFSETFROM:-0500
TZOFFSETTO:-0400
TZNAME:EDT
DTSTART:20240310T070000
END:DAYLIGHT
BEGIN:STANDARD
TZOFFSETFROM:-0400
TZOFFSETTO:-0500
TZNAME:EST
DTSTART:20241103T060000
END:STANDARD
BEGIN:DAYLIGHT
TZOFFSETFROM:-0500
TZOFFSETTO:-0400
TZNAME:EDT
DTSTART:20250309T070000
END:DAYLIGHT
BEGIN:STANDARD
TZOFFSETFROM:-0400
TZOFFSETTO:-0500
TZNAME:EST
DTSTART:20251102T060000
END:STANDARD
BEGIN:DAYLIGHT
TZOFFSETFROM:-0500
TZOFFSETTO:-0400
TZNAME:EDT
DTSTART:20260308T070000
END:DAYLIGHT
BEGIN:STANDARD
TZOFFSETFROM:-0400
TZOFFSETTO:-0500
TZNAME:EST
DTSTART:20261101T060000
END:STANDARD
END:VTIMEZONE
BEGIN:VEVENT
DTSTART;VALUE=DATE:20250827
DTEND;VALUE=DATE:20250902
DTSTAMP:20260423T182248
CREATED:20251230T231141Z
LAST-MODIFIED:20251230T235621Z
UID:1126-1756252800-1756771199@halfacrepond.com
SUMMARY:Dragon Con 2025
DESCRIPTION:Another great year at Dragon Con\, meeting new friends and old friends. A lot of good work happened in the Westin Bar this year (#IYKYK)\, and I can’t wait to get back this next Labor Day weekend.
URL:https://halfacrepond.com/event/dragon-con-2025/
CATEGORIES:Attending,Convention
ATTACH;FMTTYPE=image/jpeg:https://halfacrepond.com/wp-content/uploads/2025/12/Screenshot_20251230_180639_Chrome.jpg
END:VEVENT
BEGIN:VEVENT
DTSTART;VALUE=DATE:20250620
DTEND;VALUE=DATE:20250623
DTSTAMP:20260423T182248
CREATED:20251230T221100Z
LAST-MODIFIED:20251230T234304Z
UID:1103-1750377600-1750636799@halfacrepond.com
SUMMARY:LibertyCon 2025
DESCRIPTION:Sometimes I am at cons as a “person of interest\,” sometimes not. I went to LibertyCon 2025 as an attendee\, and I had the best time. Already looking forward to next year.
URL:https://halfacrepond.com/event/libertycon-2025/
CATEGORIES:Attending,Convention
ATTACH;FMTTYPE=image/jpeg:https://halfacrepond.com/wp-content/uploads/2025/12/Screenshot_20251230_170247_Chrome.jpg
END:VEVENT
BEGIN:VEVENT
DTSTART;VALUE=DATE:20240829
DTEND;VALUE=DATE:20240904
DTSTAMP:20260423T182248
CREATED:20240725T004646Z
LAST-MODIFIED:20240725T004646Z
UID:980-1724889600-1725407999@halfacrepond.com
SUMMARY:Dragon*Con 2024
DESCRIPTION:I’ll be in attendance at Dragon*Con\, naturally. I’m hoping to scheme my way onto some panels but generally you can find me hanging out at the Westin Bar. \nIf you aren’t familiar with it\, Dragon Con is the largest multi-media\, popular culture convention focusing on science fiction & fantasy\, gaming\, comics\, literature\, art\, music\, and film in the universe. Call us a phenomenon\, call us one of the most well attended pop-culture conventions in the country\, call us the most fan fun you can have in five days:\nDragon Con is where you want to be on Labor Day Weekend.
URL:https://halfacrepond.com/event/dragoncon-2024/
CATEGORIES:Attending,Convention
ATTACH;FMTTYPE=image/png:https://halfacrepond.com/wp-content/uploads/2024/07/Dragonconlogo.png
END:VEVENT
END:VCALENDAR