BEGIN:VCALENDAR
VERSION:2.0
PRODID:-//Halfacre Pond - ECPv6.15.20//NONSGML v1.0//EN
CALSCALE:GREGORIAN
METHOD:PUBLISH
X-WR-CALNAME:Halfacre Pond
X-ORIGINAL-URL:https://halfacrepond.com
X-WR-CALDESC:Events for Halfacre Pond
REFRESH-INTERVAL;VALUE=DURATION:PT1H
X-Robots-Tag:noindex
X-PUBLISHED-TTL:PT1H
BEGIN:VTIMEZONE
TZID:America/New_York
BEGIN:DAYLIGHT
TZOFFSETFROM:-0500
TZOFFSETTO:-0400
TZNAME:EDT
DTSTART:20230312T070000
END:DAYLIGHT
BEGIN:STANDARD
TZOFFSETFROM:-0400
TZOFFSETTO:-0500
TZNAME:EST
DTSTART:20231105T060000
END:STANDARD
BEGIN:DAYLIGHT
TZOFFSETFROM:-0500
TZOFFSETTO:-0400
TZNAME:EDT
DTSTART:20240310T070000
END:DAYLIGHT
BEGIN:STANDARD
TZOFFSETFROM:-0400
TZOFFSETTO:-0500
TZNAME:EST
DTSTART:20241103T060000
END:STANDARD
BEGIN:DAYLIGHT
TZOFFSETFROM:-0500
TZOFFSETTO:-0400
TZNAME:EDT
DTSTART:20250309T070000
END:DAYLIGHT
BEGIN:STANDARD
TZOFFSETFROM:-0400
TZOFFSETTO:-0500
TZNAME:EST
DTSTART:20251102T060000
END:STANDARD
BEGIN:DAYLIGHT
TZOFFSETFROM:-0500
TZOFFSETTO:-0400
TZNAME:EDT
DTSTART:20260308T070000
END:DAYLIGHT
BEGIN:STANDARD
TZOFFSETFROM:-0400
TZOFFSETTO:-0500
TZNAME:EST
DTSTART:20261101T060000
END:STANDARD
BEGIN:DAYLIGHT
TZOFFSETFROM:-0500
TZOFFSETTO:-0400
TZNAME:EDT
DTSTART:20270314T070000
END:DAYLIGHT
BEGIN:STANDARD
TZOFFSETFROM:-0400
TZOFFSETTO:-0500
TZNAME:EST
DTSTART:20271107T060000
END:STANDARD
END:VTIMEZONE
BEGIN:VEVENT
DTSTART;VALUE=DATE:20260206
DTEND;VALUE=DATE:20260209
DTSTAMP:20260423T195828
CREATED:20251231T010003Z
LAST-MODIFIED:20251231T010106Z
UID:1132-1770336000-1770595199@halfacrepond.com
SUMMARY:CONpossible 2026
DESCRIPTION:CONpossible is an annual 3-day convention that celebrates the creativity and diversity of alternative history and speculative fiction. \nProgramming includes: \n\ncostumery\nmaker panels\nworkshops\nand a variety of entertainment focused on #EveryPunk (Steampunk and her cousin ‘punks).\n\nFind me at a table February 6-8\, 2026 at the Sonesta Gwinnett Place in Atlanta\, Georgia. You won’t be disappointed in this year’s selection of literary and media panels\, costumery\, gaming\, contests and much more. See you “THROUGH THE FAIRY RING” ….
URL:https://halfacrepond.com/event/conpossible-2026/
LOCATION:Sonesta Gwinnett Place Atlanta\, 1775 Pleasant Hill Road\, Duluth\, GA\, 30096\, United States
CATEGORIES:Convention,Guesting,Vending
ATTACH;FMTTYPE=image/jpeg:https://halfacrepond.com/wp-content/uploads/2025/12/Screenshot_20251230_193750_Chrome.jpg
END:VEVENT
BEGIN:VEVENT
DTSTART;VALUE=DATE:20260123
DTEND;VALUE=DATE:20260126
DTSTAMP:20260423T195828
CREATED:20251230T061015Z
LAST-MODIFIED:20251231T002800Z
UID:1081-1769126400-1769385599@halfacrepond.com
SUMMARY:MystiCon 2026
DESCRIPTION:MystiCon 2026 \nIt’s gonna be a good one. \nSaturday schedule: \n\nReal Art for Real Stories: Creating Book Covers with Artists (Saturday\, 2:00pm EST\, DOGWOOD 1/2) with Richard C. White\, Maya Preisler\, Melissa Scott\, Stuart Jaffe\, and Stephen Burks\nAuthor Signing (Saturday\, 3:00pm EST)\nBrowncoat Role Call: Shiny Stories\, Big Damn Heroes (Saturday\, 6:00pm EST\, Boardroom) with Kevin A. Davis\, Drema Deoraich\, and Jaysen Buterin\nContemporary Fantasy From the Reader’s Perspective (Saturday\, 10:00pm EST\, DOGWOOD 1) with Kevin A. Davis\, Darin Kennedy\, Mel Todd\, A.L. Sirois\, and Doug Burbey\n\nSunday Schedule: \n\nBe Kind\, Rewind: 90s anime nostalgia (MOD) (Sunday: 11:00am EST\, Boardroom) with Edward McKeown\nAuthor Signing (Sunday\, 12:00pm EST)\n\nSee you in Roanoke.
URL:https://halfacrepond.com/event/mysticon-2026/
LOCATION:Holiday Inn Tanglewood – Roanoke\, 4468 Starkey Rd\, Roanoke\, VA\, 24018\, United States
CATEGORIES:Convention,Guesting,Vending
ATTACH;FMTTYPE=image/jpeg:https://halfacrepond.com/wp-content/uploads/2025/12/Screenshot_20251230_010528_Chrome.jpg
END:VEVENT
BEGIN:VEVENT
DTSTART;VALUE=DATE:20260116
DTEND;VALUE=DATE:20260119
DTSTAMP:20260423T195828
CREATED:20251230T045624Z
LAST-MODIFIED:20251231T024041Z
UID:1070-1768521600-1768780799@halfacrepond.com
SUMMARY:MarsCon 2026
DESCRIPTION:MarsCon 2026 is a “weekend-long party for people who enjoy Science Fiction and Fantasy.” \nCome converse January 16-18 at the Holiday Inn Virginia Beach – Norfolk. Maybe you’ll find me at the table with my Crowded Shelf folks\, or maybe I will see you at one of my panels: \n\nUAP’s ARE Real…. Now What? (Friday\, 2:00pm EST\, Main Programming)\nElements of Good Urban Fantasy (Friday\, 4:00pm EST\, Salon L)\nMaking Villains Wicked Again (Friday\, 7:00pm EST\, Salon N)\nHide and seek champions of the US: Cryptids (Saturday\, 2:00pm EST\, Salon N)\nLGBTQ and Disabilities in Fantasy (Saturday\, 5:00pm EST\, Salon L)\nElements of a World – magic\, region\, scene – Author Ed (Saturday\, 7:00p\, EST\, Salon L)\n\nHope to see everyone there. \n 
URL:https://halfacrepond.com/event/marscon-2026/
LOCATION:Holiday Inn Virginia Beach – Norfolk\, 5655 Greenwich Rd.\, Virginia Beach\, VA\, 23462\, United States
CATEGORIES:Convention,Guesting,Vending
ATTACH;FMTTYPE=image/jpeg:https://halfacrepond.com/wp-content/uploads/2025/12/Screenshot_20251229_232807_Chrome.jpg
END:VEVENT
BEGIN:VEVENT
DTSTART;VALUE=DATE:20251017
DTEND;VALUE=DATE:20251020
DTSTAMP:20260423T195828
CREATED:20251230T230416Z
LAST-MODIFIED:20251231T002648Z
UID:1120-1760659200-1760918399@halfacrepond.com
SUMMARY:MULTIVERSE CON 2025
DESCRIPTION:MULTIVERSE CON is an all-ages geek culture convention\, near and dear to my heart. I enjoy all of my talks at this con with my fellow fandom members\, and I even get to meet some fans of my own stuff. My panels and my table time here were *peak* this year\, and I am already looking forward to my next time with this group.
URL:https://halfacrepond.com/event/multiverse-con-2025/
LOCATION:Hilton Peachtree City\, 2443 HWY 54 West\, Peachtree City\, GA\, 30269\, United States
CATEGORIES:Convention,Guesting,Vending
ATTACH;FMTTYPE=image/jpeg:https://halfacrepond.com/wp-content/uploads/2025/12/Screenshot_20251230_180126_Chrome.jpg
END:VEVENT
BEGIN:VEVENT
DTSTART;VALUE=DATE:20250530
DTEND;VALUE=DATE:20250602
DTSTAMP:20260423T195828
CREATED:20251230T215431Z
LAST-MODIFIED:20251230T234151Z
UID:1094-1748563200-1748822399@halfacrepond.com
SUMMARY:ConCarolinas 2025
DESCRIPTION:ConCarolinas is “where artists\, authors\, gamers\, and geeks gather!” \nLove seeing everyone there each year\, but the panels and tables this year were absolutely amazing. \nCannot wait for ConCarolinas 2026.
URL:https://halfacrepond.com/event/concarolinas-2025/
LOCATION:Hilton Charlotte\, 8629 J M Keynes Drive\, Charlotte\, NC\, 28262\, United States
CATEGORIES:Convention,Guesting,Vending
ATTACH;FMTTYPE=image/jpeg:https://halfacrepond.com/wp-content/uploads/2025/12/Screenshot_20251230_164949_Chrome.jpg
END:VEVENT
BEGIN:VEVENT
DTSTART;VALUE=DATE:20250424
DTEND;VALUE=DATE:20250428
DTSTAMP:20260423T195828
CREATED:20251230T213649Z
LAST-MODIFIED:20251230T233907Z
UID:1087-1745452800-1745798399@halfacrepond.com
SUMMARY:RavenCon 2025
DESCRIPTION:RavenCon is an incredible SciFi/Fantasy/Horror Convention…and that barely scratches the surface of describing the con. You have to experience it for yourself. \nAlways so great seeing everyone at the panels and tables\, and can’t wait to see you all again next year.
URL:https://halfacrepond.com/event/ravencon-2025/
LOCATION:Virginia Crossings Hotel\, 1000 Virginia Center Parkway\, Glen Allen\, VA\, 23059\, United States
CATEGORIES:Convention,Guesting,Vending
ATTACH;FMTTYPE=image/jpeg:https://halfacrepond.com/wp-content/uploads/2025/12/Screenshot_20251230_162516_Chrome.jpg
END:VEVENT
BEGIN:VEVENT
DTSTART;VALUE=DATE:20250117
DTEND;VALUE=DATE:20250120
DTSTAMP:20260423T195828
CREATED:20240725T011709Z
LAST-MODIFIED:20240923T221150Z
UID:1002-1737072000-1737331199@halfacrepond.com
SUMMARY:MarsCon 2025
DESCRIPTION:2025 Theme:\nGalactic Empires & Epic Interstellar Legends\n\nWe like to think of MarsCon as a weekend long party for people who enjoy Science Fiction and Fantasy.
URL:https://halfacrepond.com/event/marscon-2025/
LOCATION:GA
CATEGORIES:Convention,Guesting,Vending
END:VEVENT
BEGIN:VEVENT
DTSTART;VALUE=DATE:20241018
DTEND;VALUE=DATE:20241021
DTSTAMP:20260423T195828
CREATED:20240725T010134Z
LAST-MODIFIED:20240725T012346Z
UID:988-1729209600-1729468799@halfacrepond.com
SUMMARY:MultiVerse 2024
DESCRIPTION:That’s right folks\, I’ll be a guest at MultiVerse this year in addition to having a table in the Author Alley! Come listen to me ramble about nerdy stuff. \nMULTIVERSE is an annual 3-day convention for fans of science fiction\, fantasy\, horror\, gaming\, art\, and cosplay. Join us October 18-20\, 2024 at the Hilton Peachtree City for a fun-filled weekend with dozens of the industry’s top creators!
URL:https://halfacrepond.com/event/multiverse-2024/
LOCATION:GA
CATEGORIES:Convention,Guesting,Vending
ATTACH;FMTTYPE=image/png:https://halfacrepond.com/wp-content/uploads/2024/07/8kx1kheader2.png
END:VEVENT
END:VCALENDAR