BEGIN:VCALENDAR
VERSION:2.0
PRODID:-//Halfacre Pond - ECPv6.15.20//NONSGML v1.0//EN
CALSCALE:GREGORIAN
METHOD:PUBLISH
X-WR-CALNAME:Halfacre Pond
X-ORIGINAL-URL:https://halfacrepond.com
X-WR-CALDESC:Events for Halfacre Pond
REFRESH-INTERVAL;VALUE=DURATION:PT1H
X-Robots-Tag:noindex
X-PUBLISHED-TTL:PT1H
BEGIN:VTIMEZONE
TZID:America/New_York
BEGIN:DAYLIGHT
TZOFFSETFROM:-0500
TZOFFSETTO:-0400
TZNAME:EDT
DTSTART:20230312T070000
END:DAYLIGHT
BEGIN:STANDARD
TZOFFSETFROM:-0400
TZOFFSETTO:-0500
TZNAME:EST
DTSTART:20231105T060000
END:STANDARD
BEGIN:DAYLIGHT
TZOFFSETFROM:-0500
TZOFFSETTO:-0400
TZNAME:EDT
DTSTART:20240310T070000
END:DAYLIGHT
BEGIN:STANDARD
TZOFFSETFROM:-0400
TZOFFSETTO:-0500
TZNAME:EST
DTSTART:20241103T060000
END:STANDARD
BEGIN:DAYLIGHT
TZOFFSETFROM:-0500
TZOFFSETTO:-0400
TZNAME:EDT
DTSTART:20250309T070000
END:DAYLIGHT
BEGIN:STANDARD
TZOFFSETFROM:-0400
TZOFFSETTO:-0500
TZNAME:EST
DTSTART:20251102T060000
END:STANDARD
BEGIN:DAYLIGHT
TZOFFSETFROM:-0500
TZOFFSETTO:-0400
TZNAME:EDT
DTSTART:20260308T070000
END:DAYLIGHT
BEGIN:STANDARD
TZOFFSETFROM:-0400
TZOFFSETTO:-0500
TZNAME:EST
DTSTART:20261101T060000
END:STANDARD
END:VTIMEZONE
BEGIN:VEVENT
DTSTART;VALUE=DATE:20250424
DTEND;VALUE=DATE:20250428
DTSTAMP:20260423T195308
CREATED:20251230T213649Z
LAST-MODIFIED:20251230T233907Z
UID:1087-1745452800-1745798399@halfacrepond.com
SUMMARY:RavenCon 2025
DESCRIPTION:RavenCon is an incredible SciFi/Fantasy/Horror Convention…and that barely scratches the surface of describing the con. You have to experience it for yourself. \nAlways so great seeing everyone at the panels and tables\, and can’t wait to see you all again next year.
URL:https://halfacrepond.com/event/ravencon-2025/
LOCATION:Virginia Crossings Hotel\, 1000 Virginia Center Parkway\, Glen Allen\, VA\, 23059\, United States
CATEGORIES:Convention,Guesting,Vending
ATTACH;FMTTYPE=image/jpeg:https://halfacrepond.com/wp-content/uploads/2025/12/Screenshot_20251230_162516_Chrome.jpg
END:VEVENT
BEGIN:VEVENT
DTSTART;VALUE=DATE:20250405
DTEND;VALUE=DATE:20250407
DTSTAMP:20260423T195308
CREATED:20240725T011850Z
LAST-MODIFIED:20240725T011910Z
UID:1004-1743811200-1743983999@halfacrepond.com
SUMMARY:SC Comicon 2025
DESCRIPTION:Check back for details soon!
URL:https://halfacrepond.com/event/sc-comicon-2025/
LOCATION:Greenville Convention Center\, 1 Exposition Drive\, Greenville\, SC\, 29607\, United States
CATEGORIES:Convention,Vending
ATTACH;FMTTYPE=image/png:https://halfacrepond.com/wp-content/uploads/2024/07/SC-Comicon.png
ORGANIZER;CN="Borderlands Comics & Games":MAILTO:sccomicon@gmail.com
END:VEVENT
BEGIN:VEVENT
DTSTART;VALUE=DATE:20250117
DTEND;VALUE=DATE:20250120
DTSTAMP:20260423T195308
CREATED:20240725T011709Z
LAST-MODIFIED:20240923T221150Z
UID:1002-1737072000-1737331199@halfacrepond.com
SUMMARY:MarsCon 2025
DESCRIPTION:2025 Theme:\nGalactic Empires & Epic Interstellar Legends\n\nWe like to think of MarsCon as a weekend long party for people who enjoy Science Fiction and Fantasy.
URL:https://halfacrepond.com/event/marscon-2025/
LOCATION:VA
CATEGORIES:Convention,Guesting,Vending
END:VEVENT
BEGIN:VEVENT
DTSTART;TZID=America/New_York:20241221T110000
DTEND;TZID=America/New_York:20241221T180000
DTSTAMP:20260423T195308
CREATED:20240725T011425Z
LAST-MODIFIED:20240725T012318Z
UID:1000-1734778800-1734804000@halfacrepond.com
SUMMARY:The Dummy Market VII
DESCRIPTION:Pick up your last minute Christmas presents at The Dummy Market!
URL:https://halfacrepond.com/event/the-dummy-market-vii/
LOCATION:Spartanburg Shrine Club\, 1450 Fernwood Glendale Road\, Spartanburg\, SC\, 29307\, United States
CATEGORIES:Market,Vending
END:VEVENT
BEGIN:VEVENT
DTSTART;VALUE=DATE:20241108
DTEND;VALUE=DATE:20241111
DTSTAMP:20260423T195308
CREATED:20240813T204146Z
LAST-MODIFIED:20240813T204146Z
UID:1031-1731024000-1731283199@halfacrepond.com
SUMMARY:Music City MultiCon
DESCRIPTION:A Gaming\, Comics\, and Pop Culture Convention\nMusic City Multi Con is Nashville’s Premier Gaming\, Comic\, Cosplay\, and Pop Culture Convention. The three day event is taking place November 8-10\, 2024 in the 79\,000 sq ft Farm Bureau Expo Center in Lebanon\, TN. \nMusic City Multi Con is the perfect event for the video game\, comic\, and pop culture fan. Featuring over 100 arcade and pinball machines\, over 100 video game consoles\, and the largest Pinball tournament in the state. We also have tabletop gaming\, a cosplay competition with cash prizes\, and a kids costume contest. Plus we have special guests running presentations and panels all three days. Don’t forget the large vendor room selling games\, toys\, and all the cool geek stuff you love. We have food vendors on site so you don’t have to miss out on any of the convention. \nFeatured Guests\n\n\nTicket Prices\n• 3-Day Weekend Pass: $50 Adults\, $25 Kids\n• Single Day Saturday: $30 Adults\, $15 Kids\n• Single Day Friday or Sunday: $20 Adults\, $10 Kids \n* Adult ticket prices are for age 14 and up\n* Kids discounted ticket prices are for ages 6-13\n* Kids 5 and under are free\n* We offer a 20% discount for military and first responders
URL:https://halfacrepond.com/event/music-city-multicon/
LOCATION:Farm Bureau Expo Center\, 945 East Baddour Parkway\, Lebanon\, TN\, 37087\, United States
CATEGORIES:Convention,Vending
ATTACH;FMTTYPE=image/png:https://halfacrepond.com/wp-content/uploads/2024/08/Screenshot-2024-08-13-163439.png
END:VEVENT
BEGIN:VEVENT
DTSTART;TZID=America/New_York:20241102T110000
DTEND;TZID=America/New_York:20241102T180000
DTSTAMP:20260423T195308
CREATED:20240725T011257Z
LAST-MODIFIED:20240725T011307Z
UID:998-1730545200-1730570400@halfacrepond.com
SUMMARY:Dummy Market VI
DESCRIPTION:
URL:https://halfacrepond.com/event/dummy-market-vi/
LOCATION:Spartanburg Shrine Club\, 1450 Fernwood Glendale Road\, Spartanburg\, SC\, 29307\, United States
CATEGORIES:Market
END:VEVENT
BEGIN:VEVENT
DTSTART;TZID=America/New_York:20241027T110000
DTEND;TZID=America/New_York:20241027T180000
DTSTAMP:20260423T195308
CREATED:20240725T010850Z
LAST-MODIFIED:20240725T012339Z
UID:992-1730026800-1730052000@halfacrepond.com
SUMMARY:SC Comicon Jr.
DESCRIPTION:SC Comicon is South Carolina’s premier comics and pop-culture convention\, featuring the industries top comic artists\, writers and media guests.
URL:https://halfacrepond.com/event/sc-comicon-jr/
LOCATION:Greenville Convention Center\, 1 Exposition Drive\, Greenville\, SC\, 29607\, United States
CATEGORIES:Convention,Vending
ATTACH;FMTTYPE=image/png:https://halfacrepond.com/wp-content/uploads/2024/07/SC-Comicon.png
ORGANIZER;CN="Borderlands Comics & Games":MAILTO:sccomicon@gmail.com
END:VEVENT
BEGIN:VEVENT
DTSTART;TZID=America/New_York:20241026T110000
DTEND;TZID=America/New_York:20241026T170000
DTSTAMP:20260423T195308
CREATED:20240918T192755Z
LAST-MODIFIED:20240918T192755Z
UID:1040-1729940400-1729962000@halfacrepond.com
SUMMARY:The Smiling Pumpkin @ Common Market Rock Hill
DESCRIPTION:Unleash your inner magic at The Smiling Pumpkin!\nJoin us for an enchanting day of metaphysical discovery and fall festivities. As part of the All Jacked Up Fall Festival\, we’re bringing together a captivating blend of magic and metaphysical wonders.\nImmerse yourself in a vibrant marketplace featuring a diverse array of metaphysical vendors offering everything from healing crystals and tarot readings to handmade crafts and herbal remedies. Let your senses be delighted by the delightful aromas of autumn as you explore the unique treasures each vendor has to offer.\nGet into the spirit of the season with pumpkin carving\, expertly facilitated by The Arts Council of York County. Unleash your creativity and carve out a masterpiece to take home. Satisfy your sweet tooth with delectable ice cream from Two Scoops and savor the mouthwatering cuisine at Common Market.\nCome celebrate the magic of autumn with us!
URL:https://halfacrepond.com/event/the-smiling-pumpkin-common-market-rock-hill/
LOCATION:Common Market Rock Hill\, 161 West Main St\, Rock Hill\, SC\, 29730\, United States
ATTACH;FMTTYPE=image/jpeg:https://halfacrepond.com/wp-content/uploads/2024/09/Smiling-Pumpkin.jpg
ORGANIZER;CN="Broom Closet Events":MAILTO:events@broomclosetcompany.com
END:VEVENT
BEGIN:VEVENT
DTSTART;VALUE=DATE:20241018
DTEND;VALUE=DATE:20241021
DTSTAMP:20260423T195308
CREATED:20240725T010134Z
LAST-MODIFIED:20240725T012346Z
UID:988-1729209600-1729468799@halfacrepond.com
SUMMARY:MultiVerse 2024
DESCRIPTION:That’s right folks\, I’ll be a guest at MultiVerse this year in addition to having a table in the Author Alley! Come listen to me ramble about nerdy stuff. \nMULTIVERSE is an annual 3-day convention for fans of science fiction\, fantasy\, horror\, gaming\, art\, and cosplay. Join us October 18-20\, 2024 at the Hilton Peachtree City for a fun-filled weekend with dozens of the industry’s top creators!
URL:https://halfacrepond.com/event/multiverse-2024/
LOCATION:VA
CATEGORIES:Convention,Guesting,Vending
ATTACH;FMTTYPE=image/png:https://halfacrepond.com/wp-content/uploads/2024/07/8kx1kheader2.png
END:VEVENT
BEGIN:VEVENT
DTSTART;TZID=America/New_York:20241012T100000
DTEND;TZID=America/New_York:20241012T140000
DTSTAMP:20260423T195308
CREATED:20240813T203030Z
LAST-MODIFIED:20240813T203030Z
UID:1024-1728727200-1728741600@halfacrepond.com
SUMMARY:Pop-up @ Pharmacy Coffee
DESCRIPTION:Cozy little popup in the hallways of the absolutely mesmerizing Montgomery Building in downtown Spartanburg. \nFun fact\, this is where Felix was born! You’ll find traces of inspiration for the Byron Building\, the Bunker\, Mallorey’s restaurant\, and more! \nFree to attend! Come grab a coffee and partake in the spooky season!
URL:https://halfacrepond.com/event/pop-up-pharmacy-coffee/
LOCATION:Montgomery Building\, 187 North Church Street\, Spartanburg\, SC\, 29306\, United States
CATEGORIES:Market,Vending
ATTACH;FMTTYPE=image/jpeg:https://halfacrepond.com/wp-content/uploads/2024/08/pharmacy-art-market-promo.jpg
END:VEVENT
BEGIN:VEVENT
DTSTART;VALUE=DATE:20240914
DTEND;VALUE=DATE:20240916
DTSTAMP:20260423T195308
CREATED:20240725T005432Z
LAST-MODIFIED:20240725T014903Z
UID:983-1726272000-1726444799@halfacrepond.com
SUMMARY:SC Horror 2024
DESCRIPTION:SC HORROR CONVENTION – THE SEQUEL! \nSEPTEMBER 14-15\, 2024 AT THE COLUMBIA METROPOLITAN CONVENTION CENTER IN COLUMBIA\, SOUTH CAROLINA.
URL:https://halfacrepond.com/event/sc-horror-2024/
LOCATION:Columbia Metropolitan Convention Center\, 1101 Lincoln Street\, Columbia\, SC\, 29201\, United States
CATEGORIES:Convention,Vending
ATTACH;FMTTYPE=image/png:https://halfacrepond.com/wp-content/uploads/2024/07/Screenshot-2024-07-24-214815.png
END:VEVENT
BEGIN:VEVENT
DTSTART;VALUE=DATE:20240829
DTEND;VALUE=DATE:20240904
DTSTAMP:20260423T195308
CREATED:20240725T004646Z
LAST-MODIFIED:20240725T004646Z
UID:980-1724889600-1725407999@halfacrepond.com
SUMMARY:Dragon*Con 2024
DESCRIPTION:I’ll be in attendance at Dragon*Con\, naturally. I’m hoping to scheme my way onto some panels but generally you can find me hanging out at the Westin Bar. \nIf you aren’t familiar with it\, Dragon Con is the largest multi-media\, popular culture convention focusing on science fiction & fantasy\, gaming\, comics\, literature\, art\, music\, and film in the universe. Call us a phenomenon\, call us one of the most well attended pop-culture conventions in the country\, call us the most fan fun you can have in five days:\nDragon Con is where you want to be on Labor Day Weekend.
URL:https://halfacrepond.com/event/dragoncon-2024/
LOCATION:VA
CATEGORIES:Attending,Convention
ATTACH;FMTTYPE=image/png:https://halfacrepond.com/wp-content/uploads/2024/07/Dragonconlogo.png
END:VEVENT
BEGIN:VEVENT
DTSTART;TZID=America/New_York:20240817T110000
DTEND;TZID=America/New_York:20240818T190000
DTSTAMP:20260423T195308
CREATED:20240725T004155Z
LAST-MODIFIED:20240725T012405Z
UID:974-1723892400-1724007600@halfacrepond.com
SUMMARY:Southeast Punk Fleamarket Columbia
DESCRIPTION:The SouthEast Punk Flea Market is an event that focuses on underground art\, alternative fashion and anything that surrounds the culture while giving like minded individuals a place to showcase their creations and hopefully make a little extra money selling their goods. If you are a fan of weirdo art\, vinyl records\, vintage clothes or possibly a collector of strange and unusual things\, this event is for you! \nSouthEast PFM is for the folks that are looking for a little something different than what you may find on “Main Street”. \nSaturday and Sunday 11a-7p
URL:https://halfacrepond.com/event/southeast-punk-fleamarket-columbia/
LOCATION:Jamil Shrine\, 206 Jamil Road\, Columbia\, SC\, 29210\, United States
CATEGORIES:Market,Vending
ATTACH;FMTTYPE=image/png:https://halfacrepond.com/wp-content/uploads/2024/07/Screenshot-2024-07-24-203544.png
END:VEVENT
BEGIN:VEVENT
DTSTART;TZID=America/New_York:20240811T100000
DTEND;TZID=America/New_York:20240811T160000
DTSTAMP:20260423T195308
CREATED:20240730T225545Z
LAST-MODIFIED:20240730T230036Z
UID:1017-1723370400-1723392000@halfacrepond.com
SUMMARY:Charlotte Comicon August 2024
DESCRIPTION:Charlotte Comicon\nSunday\, August 11th\, 10a-4p \nEmbassy Suites Concord Convention Center \n$5 at the door\nKids 12 and under FREE
URL:https://halfacrepond.com/event/charlotte-comicon-august-2024/
LOCATION:Embassy Suites Concord Convention Center\, 5400 John Q Hammons Dr NW\, Concord\, NC\, 28027\, United States
CATEGORIES:Convention,Vending
ATTACH;FMTTYPE=image/jpeg:https://halfacrepond.com/wp-content/uploads/2024/07/Charlotte-Comicon-August.jpg
END:VEVENT
BEGIN:VEVENT
DTSTART;TZID=America/New_York:20240810T110000
DTEND;TZID=America/New_York:20240810T180000
DTSTAMP:20260423T195308
CREATED:20240725T002454Z
LAST-MODIFIED:20240725T012413Z
UID:969-1723287600-1723312800@halfacrepond.com
SUMMARY:The Dummy Market V
DESCRIPTION:THE DUMMY MARKET INVADES THE SPARTANBURG SHRINE CLUB THIS AUGUST 10TH! \nEvent Details: SATURDAY\, AUGUST 10 Spartanburg Shrine Club (1450 Fernwood Glendale Road) 40+ VENDORS 11 AM TO 6 PM $5 ADMISSION CASH BAR FOOD TRUCKS\n JOIN THE DUMMY MARKET FOR A DAY FILLED WITH GREAT DEALS AND EVEN GREATER PEOPLE! \nBOOKS\, VINYL\, VINTAGE\, JEWELRY\, CROCHET\, ART PRINTS\, PAINTINGS\, ODDITIES\, TAXIDERMY\, TOYS\, CRYSTALS\, UPCYCLED\, HANDMADE\, REWORKED & MORE!
URL:https://halfacrepond.com/event/the-dummy-market-v/
LOCATION:Spartanburg Shrine Club\, 1450 Fernwood Glendale Road\, Spartanburg\, SC\, 29307\, United States
CATEGORIES:Market,Vending
ATTACH;FMTTYPE=image/jpeg:https://halfacrepond.com/wp-content/uploads/2024/07/Dummy-Market-August.jpg
END:VEVENT
BEGIN:VEVENT
DTSTART;VALUE=DATE:20240802
DTEND;VALUE=DATE:20240805
DTSTAMP:20260423T195308
CREATED:20240725T001435Z
LAST-MODIFIED:20240725T012420Z
UID:964-1722556800-1722815999@halfacrepond.com
SUMMARY:CreepyCon Knoxville 2024
DESCRIPTION:CreepyCon is a comprehensive Halloween and Horror themed convention held annually\, focusing on an extensive array of activities and experiences included in the ticket price. This three-day event is characterized by its heavy emphasis on performances and an abundant schedule of things to do\, catering to a wide range of interests within the Halloween & Horror genres. Attendees have access to numerous panels\, classes\, contests\, demonstrations\, celebrities\, haunted attractions\, escape rooms\, shows\, and over 200 vendors. The convention is designed to offer so much variety and content that it’s virtually impossible for any single attendee to experience everything available over the course of the event’s three days. From educational workshops and expert panels to entertainment and shopping\, CreepyCon offers an overload of options\, ensuring that there’s something for everyone. \n  \nShow Dates & Times:\nAugust 2nd: 5 p.m. – 9 p.m.\nAugust 3rd: 11 a.m. – 8 p.m.\nAugust 4th: 12 p.m. – 5 p.m.
URL:https://halfacrepond.com/event/creepycon-knoxville-2024/
LOCATION:Knoxville Convention Center\, 701 Henley St\, Knoxville\, TN\, 37902\, United States
CATEGORIES:Convention,Vending
ATTACH;FMTTYPE=image/png:https://halfacrepond.com/wp-content/uploads/2024/07/CreepyCon-Logo-without-Year.png
END:VEVENT
BEGIN:VEVENT
DTSTART;TZID=America/New_York:20240727T150000
DTEND;TZID=America/New_York:20240727T210000
DTSTAMP:20260423T195308
CREATED:20240724T235545Z
LAST-MODIFIED:20240730T224724Z
UID:958-1722092400-1722114000@halfacrepond.com
SUMMARY:Fae Nectar Fairy Market
DESCRIPTION:
URL:https://halfacrepond.com/event/fae-nectar-fairy-market/
LOCATION:Fae Nectar\, 2984 Memorial Hwy\, Lake Lure\, NC\, 28746\, United States
CATEGORIES:Market,Vending
ATTACH;FMTTYPE=image/png:https://halfacrepond.com/wp-content/uploads/2024/07/FN_main.png
END:VEVENT
END:VCALENDAR