BEGIN:VCALENDAR
VERSION:2.0
PRODID:-//Halfacre Pond - ECPv6.15.20//NONSGML v1.0//EN
CALSCALE:GREGORIAN
METHOD:PUBLISH
X-WR-CALNAME:Halfacre Pond
X-ORIGINAL-URL:https://halfacrepond.com
X-WR-CALDESC:Events for Halfacre Pond
REFRESH-INTERVAL;VALUE=DURATION:PT1H
X-Robots-Tag:noindex
X-PUBLISHED-TTL:PT1H
BEGIN:VTIMEZONE
TZID:America/New_York
BEGIN:DAYLIGHT
TZOFFSETFROM:-0500
TZOFFSETTO:-0400
TZNAME:EDT
DTSTART:20230312T070000
END:DAYLIGHT
BEGIN:STANDARD
TZOFFSETFROM:-0400
TZOFFSETTO:-0500
TZNAME:EST
DTSTART:20231105T060000
END:STANDARD
BEGIN:DAYLIGHT
TZOFFSETFROM:-0500
TZOFFSETTO:-0400
TZNAME:EDT
DTSTART:20240310T070000
END:DAYLIGHT
BEGIN:STANDARD
TZOFFSETFROM:-0400
TZOFFSETTO:-0500
TZNAME:EST
DTSTART:20241103T060000
END:STANDARD
BEGIN:DAYLIGHT
TZOFFSETFROM:-0500
TZOFFSETTO:-0400
TZNAME:EDT
DTSTART:20250309T070000
END:DAYLIGHT
BEGIN:STANDARD
TZOFFSETFROM:-0400
TZOFFSETTO:-0500
TZNAME:EST
DTSTART:20251102T060000
END:STANDARD
END:VTIMEZONE
BEGIN:VEVENT
DTSTART;TZID=America/New_York:20240727T150000
DTEND;TZID=America/New_York:20240727T210000
DTSTAMP:20260424T051530
CREATED:20240724T235545Z
LAST-MODIFIED:20240730T224724Z
UID:958-1722092400-1722114000@halfacrepond.com
SUMMARY:Fae Nectar Fairy Market
DESCRIPTION:
URL:https://halfacrepond.com/event/fae-nectar-fairy-market/
LOCATION:Fae Nectar\, 2984 Memorial Hwy\, Lake Lure\, NC\, 28746\, United States
CATEGORIES:Market,Vending
ATTACH;FMTTYPE=image/png:https://halfacrepond.com/wp-content/uploads/2024/07/FN_main.png
END:VEVENT
END:VCALENDAR